BEGIN:VCALENDAR
VERSION:2.0
PRODID:-//wp-events-plugin.com//7.2.3.1//EN
TZID:America/New_York
X-WR-TIMEZONE:America/New_York
BEGIN:VEVENT
UID:53@intergroup5.org
DTSTART;TZID=America/New_York:20250218T180000
DTEND;TZID=America/New_York:20250218T200000
DTSTAMP:20250203T031109Z
URL:https://intergroup5.org/events/singleness-of-purpose-chili-cookoff/
SUMMARY:Singleness of Purpose Chili Cookoff
DESCRIPTION:Join us on Tuesday\, February 18tht at 6:00 for our annual Sing
 leness of Purpose Chili Cookoff.\n\nThere will be Chili\, sides\, and all 
 the fixings. Feel free to bring a chili\, side\, or just yourself.\n\nAfte
 r dinner\, Jimmy from 909 will share his experiences\, strength and hope!
ATTACH;FMTTYPE=image/jpeg:https://intergroup5.org/wp-content/uploads/2025/
 01/ChiliCookOff.jpg
CATEGORIES:Local group event
LOCATION:First Baptist Wakulla Station\, 945 Woodville Hwy\, Crawfordville\
 ,\, FL\, 32327\, United States
X-APPLE-STRUCTURED-LOCATION;VALUE=URI;X-ADDRESS=945 Woodville Hwy\, Crawfor
 dville\,\, FL\, 32327\, United States;X-APPLE-RADIUS=100;X-TITLE=First Bap
 tist Wakulla Station:geo:0,0
END:VEVENT
BEGIN:VTIMEZONE
TZID:America/New_York
X-LIC-LOCATION:America/New_York
BEGIN:STANDARD
DTSTART:20241103T010000
TZOFFSETFROM:-0400
TZOFFSETTO:-0500
TZNAME:EST
END:STANDARD
END:VTIMEZONE
END:VCALENDAR