BEGIN:VCALENDAR
VERSION:2.0
PRODID:-//wp-events-plugin.com//7.2.3.1//EN
TZID:America/New_York
X-WR-TIMEZONE:America/New_York
BEGIN:VEVENT
UID:51@intergroup5.org
DTSTART;TZID=America/New_York:20250208T173000
DTEND;TZID=America/New_York:20250208T193000
DTSTAMP:20241214T150152Z
URL:https://intergroup5.org/events/lgbtq-tallahassee-1-year-anniversary-di
 nner/
SUMMARY:LGBTQ Tallahassee 1 year anniversary dinner
DESCRIPTION:Join the LGBTQ Tallahassee group for their 1 year anniversary!\
 n\nPotluck dinner and speaker followed by music and games.\n\nGet the flye
 r here and share with other groups.
ATTACH;FMTTYPE=image/jpeg:https://intergroup5.org/wp-content/uploads/2024/
 12/LGBTQDinner.png
CATEGORIES:Local group event
LOCATION:First Presbyterian Church\, 110 N Adams St.\, Tallahassee\, FL\, 3
 2301\, United States
X-APPLE-STRUCTURED-LOCATION;VALUE=URI;X-ADDRESS=110 N Adams St.\, Tallahass
 ee\, FL\, 32301\, United States;X-APPLE-RADIUS=100;X-TITLE=First Presbyter
 ian Church:geo:0,0
END:VEVENT
BEGIN:VTIMEZONE
TZID:America/New_York
X-LIC-LOCATION:America/New_York
BEGIN:STANDARD
DTSTART:20241103T010000
TZOFFSETFROM:-0400
TZOFFSETTO:-0500
TZNAME:EST
END:STANDARD
END:VTIMEZONE
END:VCALENDAR