BEGIN:VCALENDAR
VERSION:2.0
PRODID:-//wp-events-plugin.com//7.2.3.1//EN
TZID:America/New_York
X-WR-TIMEZONE:America/New_York
BEGIN:VEVENT
UID:110@intergroup5.org
DTSTART;TZID=America/New_York:20261202T190000
DTEND;TZID=America/New_York:20261202T200000
DTSTAMP:20250416T030725Z
URL:https://intergroup5.org/events/intergroup-5-monthly-business-meeting-2
 026-12-02/
SUMMARY:Intergroup 5 monthly business meeting
DESCRIPTION:Intergroup5 monthly business meeting at 7:00 pm. All business m
 eetings are open.\n\nClick here to join by Zoom.
ATTACH;FMTTYPE=image/jpeg:https://intergroup5.org/wp-content/uploads/2024/
 02/IG5_wordcloud.png
CATEGORIES:Monthly business meeting
LOCATION:https://us02web.zoom.us/j/86122332931?pwd=cXZIbGExNUpXbUI5aFoydExl
 aTBVQT09
END:VEVENT
BEGIN:VTIMEZONE
TZID:America/New_York
X-LIC-LOCATION:America/New_York
BEGIN:STANDARD
DTSTART:20261101T010000
TZOFFSETFROM:-0400
TZOFFSETTO:-0500
TZNAME:EST
END:STANDARD
END:VTIMEZONE
END:VCALENDAR