BEGIN:VCALENDAR
VERSION:2.0
PRODID:-//wp-events-plugin.com//7.2.3.1//EN
TZID:America/New_York
X-WR-TIMEZONE:America/New_York
BEGIN:VEVENT
UID:107@intergroup5.org
DTSTART;TZID=America/New_York:20260603T190000
DTEND;TZID=America/New_York:20260603T200000
DTSTAMP:20250416T030725Z
URL:https://intergroup5.org/events/intergroup-5-monthly-business-meeting-2
 026-06-03/
SUMMARY:Intergroup 5 monthly business meeting
DESCRIPTION:Intergroup5 monthly business meeting at 7:00 pm. All business m
 eetings are open.\n\nClick here to join by Zoom.
ATTACH;FMTTYPE=image/jpeg:https://intergroup5.org/wp-content/uploads/2024/
 02/IG5_wordcloud.png
CATEGORIES:Monthly business meeting
LOCATION:https://us02web.zoom.us/j/86122332931?pwd=cXZIbGExNUpXbUI5aFoydExl
 aTBVQT09
END:VEVENT
BEGIN:VTIMEZONE
TZID:America/New_York
X-LIC-LOCATION:America/New_York
BEGIN:DAYLIGHT
DTSTART:20260308T030000
TZOFFSETFROM:-0500
TZOFFSETTO:-0400
TZNAME:EDT
END:DAYLIGHT
END:VTIMEZONE
END:VCALENDAR