BEGIN:VCALENDAR
VERSION:2.0
PRODID:-//wp-events-plugin.com//7.2.3.1//EN
TZID:America/New_York
X-WR-TIMEZONE:America/New_York
BEGIN:VEVENT
UID:152@intergroup5.org
DTSTART;TZID=America/New_York;VALUE=DATE:20260612
DTEND;TZID=America/New_York;VALUE=DATE:20260615
DTSTAMP:20260423T052833Z
URL:https://intergroup5.org/events/founders-day-florida-style-3/
SUMMARY:Founders' Day Florida Style
DESCRIPTION:Click here for the Founders' Day Florida Style site and registr
 ation.
ATTACH;FMTTYPE=image/jpeg:https://intergroup5.org/wp-content/uploads/2025/
 03/FDFSLogo.png
CATEGORIES:Round Ups &amp; Conventions
LOCATION:Tallahassee Automobile Museum\, 6800 Mahan Drive\, Tallahassee\, F
 L\, 32317\, United States
X-APPLE-STRUCTURED-LOCATION;VALUE=URI;X-ADDRESS=6800 Mahan Drive\, Tallahas
 see\, FL\, 32317\, United States;X-APPLE-RADIUS=100;X-TITLE=Tallahassee Au
 tomobile Museum:geo:0,0
END:VEVENT
BEGIN:VTIMEZONE
TZID:America/New_York
X-LIC-LOCATION:America/New_York
BEGIN:DAYLIGHT
DTSTART:20260308T030000
TZOFFSETFROM:-0500
TZOFFSETTO:-0400
TZNAME:EDT
END:DAYLIGHT
END:VTIMEZONE
END:VCALENDAR