BEGIN:VCALENDAR
VERSION:2.0
PRODID:-//wp-events-plugin.com//7.2.3.1//EN
TZID:America/New_York
X-WR-TIMEZONE:America/New_York
BEGIN:VEVENT
UID:143@intergroup5.org
DTSTART;TZID=America/New_York:20270120T190000
DTEND;TZID=America/New_York:20270120T200000
DTSTAMP:20251130T020119Z
URL:https://intergroup5.org/events/district-5-monthly-business-meeting-202
 7-01-20/
SUMMARY:District 5 monthly business meeting
DESCRIPTION:The meetings are held at Faith Presbyterian Church 2200 N. Mer
 idian Road\, Entrance on Pinewood Dr.\, 3rd driveway on the right. \n\nMee
 tings are in room 210 at the top of the stairs in the Church Office buildi
 ng. Use the middle door..\n\nThere is also a Zoom option available. \n\n
ATTACH;FMTTYPE=image/jpeg:https://intergroup5.org/wp-content/uploads/2024/
 06/MeetingRoom.jpg
CATEGORIES:Monthly business meeting
LOCATION:Faith Presbyterian Church\, 2200 North Meridian Rd\, TALLAHASSEE\,
  fl\, 32303\, United States
X-APPLE-STRUCTURED-LOCATION;VALUE=URI;X-ADDRESS=2200 North Meridian Rd\, TA
 LLAHASSEE\, fl\, 32303\, United States;X-APPLE-RADIUS=100;X-TITLE=Faith Pr
 esbyterian Church:geo:0,0
END:VEVENT
BEGIN:VTIMEZONE
TZID:America/New_York
X-LIC-LOCATION:America/New_York
BEGIN:STANDARD
DTSTART:20261101T010000
TZOFFSETFROM:-0400
TZOFFSETTO:-0500
TZNAME:EST
END:STANDARD
END:VTIMEZONE
END:VCALENDAR