BEGIN:VCALENDAR
VERSION:2.0
PRODID:-//wp-events-plugin.com//7.2.3.1//EN
TZID:America/New_York
X-WR-TIMEZONE:America/New_York
BEGIN:VEVENT
UID:49@intergroup5.org
DTSTART;TZID=America/New_York:20241128T120000
DTEND;TZID=America/New_York:20241128T140000
DTSTAMP:20241113T050514Z
URL:https://intergroup5.org/events/crawfordville-thanksgiving-potluck-dinn
 er/
SUMMARY:Crawfordville Thanksgiving Potluck Dinner
DESCRIPTION:The Crawfordville Group will host a Thanksgiving potluck dinner
  on Thanksgiving day\, Nov 28\, from Noon-2:00pm. Bring a side dish.\nGet 
 the flyer here\, and share with your other groups.\nYou do not have to be
  alone on Thanksgiving! Come join our fellowship.
ATTACH;FMTTYPE=image/jpeg:https://intergroup5.org/wp-content/uploads/2024/
 11/ThanksGivingPotLuck.jpg
CATEGORIES:Local group event
LOCATION:Crawfordville\, 54 Ochlockonee St\, Crawfordville\, FL\, 32327\, U
 nited States
X-APPLE-STRUCTURED-LOCATION;VALUE=URI;X-ADDRESS=54 Ochlockonee St\, Crawfor
 dville\, FL\, 32327\, United States;X-APPLE-RADIUS=100;X-TITLE=Crawfordvil
 le:geo:0,0
END:VEVENT
BEGIN:VTIMEZONE
TZID:America/New_York
X-LIC-LOCATION:America/New_York
BEGIN:STANDARD
DTSTART:20241103T010000
TZOFFSETFROM:-0400
TZOFFSETTO:-0500
TZNAME:EST
END:STANDARD
END:VTIMEZONE
END:VCALENDAR