BEGIN:VCALENDAR
VERSION:2.0
PRODID:-//wp-events-plugin.com//7.2.3.1//EN
TZID:America/New_York
X-WR-TIMEZONE:America/New_York
BEGIN:VEVENT
UID:52@intergroup5.org
DTSTART;TZID=America/New_York:20241231T181500
DTEND;TZID=America/New_York:20250101T123000
DTSTAMP:20241214T151615Z
URL:https://intergroup5.org/events/casa-new-years-eve-alcathon/
SUMMARY:CASA New Year's Eve Alcathon
DESCRIPTION:CASA will host a New Year's Eve Alcathon beginning with the 6:1
 5 Happy Hour meeting on Tuesday\, December 31st. Meetings will be every ot
 her hour through Wednesday\, January 1st\, 2025\, ending with the 12:30 Li
 ving Sober meeting. Bring snacks or potluck. Chairs are needed for meeting
 s!
ATTACH;FMTTYPE=image/jpeg:https://intergroup5.org/wp-content/uploads/2024/
 12/crowd-participating-at-an-event.jpg
CATEGORIES:Alcathon
LOCATION:CASA\, 2410 Monday Rd\, TALLAHASSEE\, FL\, 32311\, United States
X-APPLE-STRUCTURED-LOCATION;VALUE=URI;X-ADDRESS=2410 Monday Rd\, TALLAHASSE
 E\, FL\, 32311\, United States;X-APPLE-RADIUS=100;X-TITLE=CASA:geo:0,0
END:VEVENT
BEGIN:VTIMEZONE
TZID:America/New_York
X-LIC-LOCATION:America/New_York
BEGIN:STANDARD
DTSTART:20241103T010000
TZOFFSETFROM:-0400
TZOFFSETTO:-0500
TZNAME:EST
END:STANDARD
END:VTIMEZONE
END:VCALENDAR