BEGIN:VCALENDAR
VERSION:2.0
PRODID:-//wp-events-plugin.com//7.2.3.1//EN
TZID:America/New_York
X-WR-TIMEZONE:America/New_York
BEGIN:VEVENT
UID:44@intergroup5.org
DTSTART;TZID=America/New_York:20240527T133000
DTEND;TZID=America/New_York:20240527T150000
DTSTAMP:20240515T041056Z
URL:https://intergroup5.org/events/casa-memorial-day-cookout/
SUMMARY:CASA Memorial Day Cookout
DESCRIPTION:Come join us at CASA for the annual Memorial day cookout. Cooko
 ut starts at after the Living Sober meeting at 1:30. CASA will provide mea
 ts and fixings\, please bring a covered dish.\n\nFlyer\n\n$5 members\n\n$7
  non-members
LOCATION:CASA\, 2410 Monday Rd\, TALLAHASSEE\, FL\, 32311\, United States
X-APPLE-STRUCTURED-LOCATION;VALUE=URI;X-ADDRESS=2410 Monday Rd\, TALLAHASSE
 E\, FL\, 32311\, United States;X-APPLE-RADIUS=100;X-TITLE=CASA:geo:0,0
END:VEVENT
BEGIN:VTIMEZONE
TZID:America/New_York
X-LIC-LOCATION:America/New_York
BEGIN:DAYLIGHT
DTSTART:20240310T030000
TZOFFSETFROM:-0500
TZOFFSETTO:-0400
TZNAME:EDT
END:DAYLIGHT
END:VTIMEZONE
END:VCALENDAR