BEGIN:VCALENDAR
VERSION:2.0
PRODID:-//wp-events-plugin.com//7.2.3.1//EN
TZID:America/New_York
X-WR-TIMEZONE:America/New_York
BEGIN:VEVENT
UID:153@intergroup5.org
DTSTART;TZID=America/New_York:20260509T120000
DTEND;TZID=America/New_York:20260509T130000
DTSTAMP:20260423T052654Z
URL:https://intergroup5.org/events/casa-bake-sale/
SUMMARY:CASA Bake Sale
DESCRIPTION:Casa will host a bake sale on Saturday May 9th @ noon. Bring tr
 eats to sell\, and $ to buy treats!\n\nThis is a CASA fundraiser. Come on 
 out and have something delicious to eat\, and support CASA at the same tim
 e.
ATTACH;FMTTYPE=image/jpeg:https://intergroup5.org/wp-content/uploads/2026/
 04/bakesale.jpg
CATEGORIES:Clubhouse event,Eating
LOCATION:CASA\, 2410 Monday Rd\, TALLAHASSEE\, FL\, 32311\, United States
X-APPLE-STRUCTURED-LOCATION;VALUE=URI;X-ADDRESS=2410 Monday Rd\, TALLAHASSE
 E\, FL\, 32311\, United States;X-APPLE-RADIUS=100;X-TITLE=CASA:geo:0,0
END:VEVENT
BEGIN:VTIMEZONE
TZID:America/New_York
X-LIC-LOCATION:America/New_York
BEGIN:DAYLIGHT
DTSTART:20260308T030000
TZOFFSETFROM:-0500
TZOFFSETTO:-0400
TZNAME:EDT
END:DAYLIGHT
END:VTIMEZONE
END:VCALENDAR