BEGIN:VCALENDAR
VERSION:2.0
PRODID:-//wp-events-plugin.com//7.2.3.1//EN
TZID:America/New_York
X-WR-TIMEZONE:America/New_York
BEGIN:VEVENT
UID:54@intergroup5.org
DTSTART;TZID=America/New_York:20250115T193000
DTEND;TZID=America/New_York:20250115T203000
DTSTAMP:20250108T044110Z
URL:https://intergroup5.org/events/casa-annual-members-meeting/
SUMMARY:CASA Annual members meeting
DESCRIPTION:CASA will hold their annual members meeting on Wednesday\, Janu
 ary 15th at 7:30 pm (after Happy Hour group).\n\nThe meeting is open to al
 l. You must be a CASA member to vote
ATTACH;FMTTYPE=image/jpeg:https://intergroup5.org/wp-content/uploads/2025/
 01/BoardMeeting.jpg
CATEGORIES:Local group event
LOCATION:CASA\, 2410 Monday Rd\, TALLAHASSEE\, FL\, 32311\, United States
X-APPLE-STRUCTURED-LOCATION;VALUE=URI;X-ADDRESS=2410 Monday Rd\, TALLAHASSE
 E\, FL\, 32311\, United States;X-APPLE-RADIUS=100;X-TITLE=CASA:geo:0,0
END:VEVENT
BEGIN:VTIMEZONE
TZID:America/New_York
X-LIC-LOCATION:America/New_York
BEGIN:STANDARD
DTSTART:20241103T010000
TZOFFSETFROM:-0400
TZOFFSETTO:-0500
TZNAME:EST
END:STANDARD
END:VTIMEZONE
END:VCALENDAR