BEGIN:VCALENDAR
VERSION:2.0
PRODID:-//wp-events-plugin.com//7.2.3.1//EN
TZID:America/New_York
X-WR-TIMEZONE:America/New_York
BEGIN:VEVENT
UID:142@intergroup5.org
DTSTART;TZID=America/New_York:20251122T030000
DTEND;TZID=America/New_York:20251122T030000
DTSTAMP:20251122T074614Z
URL:https://intergroup5.org/events/casa-1-test/
SUMMARY:Casa 1 test
DESCRIPTION:Test location page
LOCATION:CASA 1\, 2410 Monday Rd\, Tallahassee\, FL\, 32311\, United States
X-APPLE-STRUCTURED-LOCATION;VALUE=URI;X-ADDRESS=2410 Monday Rd\, Tallahasse
 e\, FL\, 32311\, United States;X-APPLE-RADIUS=100;X-TITLE=CASA 1:geo:0,0
END:VEVENT
BEGIN:VTIMEZONE
TZID:America/New_York
X-LIC-LOCATION:America/New_York
BEGIN:STANDARD
DTSTART:20251102T010000
TZOFFSETFROM:-0400
TZOFFSETTO:-0500
TZNAME:EST
END:STANDARD
END:VTIMEZONE
END:VCALENDAR