BEGIN:VCALENDAR
VERSION:2.0
PRODID:-//wp-events-plugin.com//7.2.3.1//EN
TZID:America/New_York
X-WR-TIMEZONE:America/New_York
BEGIN:VEVENT
UID:122@intergroup5.org
DTSTART;TZID=America/New_York:20260510T093000
DTEND;TZID=America/New_York:20260510T104500
DTSTAMP:20251007T021839Z
URL:https://intergroup5.org/events/breakfast-at-casa-every-2nd-sunday-2025
 -10-12-2025-11-09-2025-12-14-2026-01-11-2026-02-08-2026-03-08-2026-04-12-2
 026-05-10/
SUMMARY:Breakfast at CASA every 2nd Sunday
DESCRIPTION:Please join us for breakfast on the 2nd Sunday of each month. \
 n\nWe have custom-made omelets and waffles prepared by our very own Mark a
 nd John!\n\n\nWe eat beginning at 9:30 am. Everyone brings a side dish lik
 e hash browns\, muffins\, sausage\, fruit\, bacon\, etc.\n\n\nThe cost is 
 $3.00 for CASA members and $5.00 for not-yet members. Stick around for the
  Living Sober meeting starting at 11:00 am!
ATTACH;FMTTYPE=image/jpeg:https://intergroup5.org/wp-content/uploads/2025/
 10/Breakfast-2.jpg
CATEGORIES:Clubhouse event,Eating
LOCATION:CASA\, 2410 Monday Rd\, TALLAHASSEE\, FL\, 32311\, United States
X-APPLE-STRUCTURED-LOCATION;VALUE=URI;X-ADDRESS=2410 Monday Rd\, TALLAHASSE
 E\, FL\, 32311\, United States;X-APPLE-RADIUS=100;X-TITLE=CASA:geo:0,0
END:VEVENT
BEGIN:VTIMEZONE
TZID:America/New_York
X-LIC-LOCATION:America/New_York
BEGIN:DAYLIGHT
DTSTART:20260308T030000
TZOFFSETFROM:-0500
TZOFFSETTO:-0400
TZNAME:EDT
END:DAYLIGHT
END:VTIMEZONE
END:VCALENDAR