BEGIN:VCALENDAR
VERSION:2.0
PRODID:-//wp-events-plugin.com//7.2.3.1//EN
TZID:America/New_York
X-WR-TIMEZONE:America/New_York
BEGIN:VEVENT
UID:151@intergroup5.org
DTSTART;TZID=America/New_York:20260328T180000
DTEND;TZID=America/New_York:20260328T230000
DTSTAMP:20260125T221619Z
URL:https://intergroup5.org/events/boots-big-books-bbq/
SUMMARY:Boots\, Big Books\, & BBQ
DESCRIPTION:District 5 will host a dance at Southside. The theme is Western
 . There will be dinner at 6:00\, speaker meeting at 7:00\, and dancing at 
 8:00. \nSee the flyer here.\nWe hope to see everybody there!
ATTACH;FMTTYPE=image/jpeg:https://intergroup5.org/wp-content/uploads/2026/
 01/BootsBBBBQ-e1769379963995.png
CATEGORIES:District 5 event
LOCATION:Southside\, 3106 Shadeville Rd\, Crawfordville\, FL\, 32327\, Unit
 ed States
X-APPLE-STRUCTURED-LOCATION;VALUE=URI;X-ADDRESS=3106 Shadeville Rd\, Crawfo
 rdville\, FL\, 32327\, United States;X-APPLE-RADIUS=100;X-TITLE=Southside:
 geo:0,0
END:VEVENT
BEGIN:VTIMEZONE
TZID:America/New_York
X-LIC-LOCATION:America/New_York
BEGIN:DAYLIGHT
DTSTART:20260308T030000
TZOFFSETFROM:-0500
TZOFFSETTO:-0400
TZNAME:EDT
END:DAYLIGHT
END:VTIMEZONE
END:VCALENDAR