BEGIN:VCALENDAR
VERSION:2.0
PRODID:-//wp-events-plugin.com//7.2.3.1//EN
TZID:America/New_York
X-WR-TIMEZONE:America/New_York
BEGIN:VEVENT
UID:150@intergroup5.org
DTSTART;TZID=America/New_York:20260114T193000
DTEND;TZID=America/New_York:20260114T203000
DTSTAMP:20260103T194441Z
URL:https://intergroup5.org/events/annual-casa-members-meeting/
SUMMARY:Annual CASA members meeting
DESCRIPTION:You are invited to attend our annual membership meeting Wednesd
 ay\, January 14\, 2026\, at 7:30pm. Attendance at the meeting is open to a
 ll\; however\, only members will be allowed to vote on CASA's business iss
 ues. Join now\, so you will have a voice\nin CASA's future! \n\nAt the mee
 ting\, we will be accepting nominations for members to serve on the CASA B
 oard. Anyone with at least two years continuous sobriety who wants to join
  the Board needs to be a paid member in good standing 60 days prior to the
  meeting. \n\n\n\nYour membership dollars help pay our utilities\, insuran
 ce\, repairs\, City of Tallahassee fees and much more. \nAfter the member 
 meeting\, the regular CASA Board meeting will\ntake place.
ATTACH;FMTTYPE=image/jpeg:https://intergroup5.org/wp-content/uploads/2024/
 12/crowd-participating-at-an-event.jpg
CATEGORIES:Clubhouse event
LOCATION:CASA\, 2410 Monday Rd\, TALLAHASSEE\, FL\, 32311\, United States
X-APPLE-STRUCTURED-LOCATION;VALUE=URI;X-ADDRESS=2410 Monday Rd\, TALLAHASSE
 E\, FL\, 32311\, United States;X-APPLE-RADIUS=100;X-TITLE=CASA:geo:0,0
END:VEVENT
BEGIN:VTIMEZONE
TZID:America/New_York
X-LIC-LOCATION:America/New_York
BEGIN:STANDARD
DTSTART:20251102T010000
TZOFFSETFROM:-0400
TZOFFSETTO:-0500
TZNAME:EST
END:STANDARD
END:VTIMEZONE
END:VCALENDAR