BEGIN:VCALENDAR
VERSION:2.0
PRODID:-//wp-events-plugin.com//7.2.3.1//EN
TZID:America/New_York
X-WR-TIMEZONE:America/New_York
BEGIN:VEVENT
UID:149@intergroup5.org
DTSTART;TZID=America/New_York:20260806T000000
DTEND;TZID=America/New_York:20260809T000000
DTSTAMP:20260103T192835Z
URL:https://intergroup5.org/events/68th-annual-florida-state-convention-or
 lando/
SUMMARY:68th Annual Florida State Convention - Orlando
DESCRIPTION:The 68th Annual Florida State Convention will be held in Orland
 o Florida at the Rosen Plaza Hotel.\n\nInformation can be found on the 68t
 h Annual Florida State Convention website.
ATTACH;FMTTYPE=image/jpeg:https://intergroup5.org/wp-content/uploads/2026/
 01/Transparent-68th-Florida-State-Convention-Logo-512-sqare-e1767468504441
 .png
CATEGORIES:Round Ups &amp; Conventions
END:VEVENT
BEGIN:VTIMEZONE
TZID:America/New_York
X-LIC-LOCATION:America/New_York
BEGIN:DAYLIGHT
DTSTART:20260308T030000
TZOFFSETFROM:-0500
TZOFFSETTO:-0400
TZNAME:EDT
END:DAYLIGHT
END:VTIMEZONE
END:VCALENDAR