BEGIN:VCALENDAR
VERSION:2.0
PRODID:-//wp-events-plugin.com//7.2.3.1//EN
TZID:America/New_York
X-WR-TIMEZONE:America/New_York
BEGIN:VEVENT
UID:111@intergroup5.org
DTSTART;TZID=America/New_York:20250704T013000
DTEND;TZID=America/New_York:20250704T033000
DTSTAMP:20250624T223340Z
URL:https://intergroup5.org/events/4th-of-july-cookout-casa-2/
SUMMARY:4th of July Cookout @ CASA
DESCRIPTION:CASA will host a cookout on the 4th of July @1:30\, after the L
 iving Sober meeting. CASA will provide burgers &amp\; dogs. Bring a side t
 o share.\n\n$5 for CASA members and $7 for non members. Come on out and ha
 ve a fun time with us!
ATTACH;FMTTYPE=image/jpeg:https://intergroup5.org/wp-content/uploads/2024/
 06/4thofJulyCupCakes.jpg
CATEGORIES:Local group event
LOCATION:CASA\, 2410 Monday Rd\, TALLAHASSEE\, FL\, 32311\, United States
X-APPLE-STRUCTURED-LOCATION;VALUE=URI;X-ADDRESS=2410 Monday Rd\, TALLAHASSE
 E\, FL\, 32311\, United States;X-APPLE-RADIUS=100;X-TITLE=CASA:geo:0,0
END:VEVENT
BEGIN:VTIMEZONE
TZID:America/New_York
X-LIC-LOCATION:America/New_York
BEGIN:DAYLIGHT
DTSTART:20250309T030000
TZOFFSETFROM:-0500
TZOFFSETTO:-0400
TZNAME:EDT
END:DAYLIGHT
END:VTIMEZONE
END:VCALENDAR