BEGIN:VCALENDAR
VERSION:2.0
PRODID:-//wp-events-plugin.com//7.2.3.1//EN
TZID:America/New_York
X-WR-TIMEZONE:America/New_York
BEGIN:VEVENT
UID:43@intergroup5.org
DTSTART;TZID=America/New_York:20240316T140000
DTEND;TZID=America/New_York:20240316T150000
DTSTAMP:20240307T010358Z
URL:https://intergroup5.org/events/2024-district-5-pre-conference-workshop
 /
SUMMARY:2024 District 5 pre-conference workshop
DESCRIPTION:The Pre-Conference Workshop is an opportunity to\ndiscuss the a
 genda items of the current General\nService Conference and inform the dele
 gate of the\nArea’s group conscious before the General Service\nConferen
 ce convenes in New York.\n\nOur preconference workshop will be presented b
 y our\nalternate delegate\, Lori. This preconference\nworkshop will be our
  opportunity to communicate\nDistrict 5’s thoughts and group conscience 
 to New\nYork.\n\nYou can get the flyer here.
CATEGORIES:District 5 event,Workshop
LOCATION:909\, 909 N Gadsden St\, Tallahassee\, FL\, 32303\, United States
X-APPLE-STRUCTURED-LOCATION;VALUE=URI;X-ADDRESS=909 N Gadsden St\, Tallahas
 see\, FL\, 32303\, United States;X-APPLE-RADIUS=100;X-TITLE=909:geo:0,0
END:VEVENT
BEGIN:VTIMEZONE
TZID:America/New_York
X-LIC-LOCATION:America/New_York
BEGIN:DAYLIGHT
DTSTART:20240310T030000
TZOFFSETFROM:-0500
TZOFFSETTO:-0400
TZNAME:EDT
END:DAYLIGHT
END:VTIMEZONE
END:VCALENDAR