BEGIN:VCALENDAR
VERSION:2.0
PRODID:-//wp-events-plugin.com//7.2.3.1//EN
TZID:America/New_York
X-WR-TIMEZONE:America/New_York
BEGIN:VEVENT
UID:99@intergroup5.org
DTSTART;TZID=America/New_York:20250330T120000
DTEND;TZID=America/New_York:20250330T150000
DTSTAMP:20250324T015828Z
URL:https://intergroup5.org/events/2024-district-5-pre-conference-workshop
 -2/
SUMMARY:2024 District 5 pre-conference workshop
DESCRIPTION:The Pre-Conference Workshop is an opportunity to\ndiscuss the a
 genda items of the current General\nService Conference\, and inform the de
 legate of the\nArea’s group conscious before the General Service\nConfer
 ence convenes in New York\, and our opportunity to communicate District 5
 ’s thoughts and group conscience to New\nYork.\n\nOur preconference work
 shop will be presented by our\nConference Delegate\, Lori P.\nThe workshop
  will be held at Crawfordville group on Sunday\, March 30\, 2025 from 12-3
 .\n54 Ochlockonee St.\nCrawfordville\, Fl. 32327\nCoffee &amp\; light snac
 ks will be available. Please announce at all meetings!\nYou can get the fl
 yer here.
ATTACH;FMTTYPE=image/jpeg:https://intergroup5.org/wp-content/uploads/2024/
 12/crowd-participating-at-an-event.jpg
CATEGORIES:District 5 event,Workshop
LOCATION:Crawfordville\, 54 Ochlockonee St\, Crawfordville\, FL\, 32327\, U
 nited States
X-APPLE-STRUCTURED-LOCATION;VALUE=URI;X-ADDRESS=54 Ochlockonee St\, Crawfor
 dville\, FL\, 32327\, United States;X-APPLE-RADIUS=100;X-TITLE=Crawfordvil
 le:geo:0,0
END:VEVENT
BEGIN:VTIMEZONE
TZID:America/New_York
X-LIC-LOCATION:America/New_York
BEGIN:DAYLIGHT
DTSTART:20250309T030000
TZOFFSETFROM:-0500
TZOFFSETTO:-0400
TZNAME:EDT
END:DAYLIGHT
END:VTIMEZONE
END:VCALENDAR