BEGIN:VCALENDAR
VERSION:2.0
PRODID:-//wp-events-plugin.com//7.2.3.1//EN
TZID:America/New_York
X-WR-TIMEZONE:America/New_York
BEGIN:VEVENT
UID:112@intergroup5.org
DTSTART;TZID=America/New_York:20251108T170000
DTEND;TZID=America/New_York:20251108T210000
DTSTAMP:20250818T235347Z
URL:https://intergroup5.org/events/2024-district-5-gratitude-dinner-2/
SUMMARY:2025 District 5 Gratitude Dinner
DESCRIPTION:\nThe annual District 5 Gratitude Dinner is on the way! This ye
 ar the Gratitude Dinner will be held on Saturday\, November 8\, 2025.\n\n\
 n\nWhere: Jackson Masonic Lodge Tallahassee  2818 Apalachee Pkwy\, Tallah
 assee\, FL 32301\n\n\n\nWhen: Saturday\, November 8 2025 Doors open 5:00 p
 m • Dinner 5:30 pm • Speaker 6:30\n\n\n\nMain dish provided by Doug &a
 mp\; Doug. Bring a side to share\n\n\n\nDownload the flyer here. Please pr
 int and share with your homegroup.\n\n\n\n&nbsp\;\n
ATTACH;FMTTYPE=image/jpeg:https://intergroup5.org/wp-content/uploads/2024/
 08/AA.webp
CATEGORIES:District 5 event
LOCATION:Jackson Masonic Lodge\, 2818 Apalachee Pkwy\, Tallahassee\, FL\, 3
 2301\, United States
X-APPLE-STRUCTURED-LOCATION;VALUE=URI;X-ADDRESS=2818 Apalachee Pkwy\, Talla
 hassee\, FL\, 32301\, United States;X-APPLE-RADIUS=100;X-TITLE=Jackson Mas
 onic Lodge:geo:0,0
END:VEVENT
BEGIN:VTIMEZONE
TZID:America/New_York
X-LIC-LOCATION:America/New_York
BEGIN:STANDARD
DTSTART:20251102T010000
TZOFFSETFROM:-0400
TZOFFSETTO:-0500
TZNAME:EST
END:STANDARD
END:VTIMEZONE
END:VCALENDAR